BEGIN:VCALENDAR
VERSION:2.0
PRODID:-//Institute on Race, Power and Political Economy - ECPv6.15.11//NONSGML v1.0//EN
CALSCALE:GREGORIAN
METHOD:PUBLISH
X-WR-CALNAME:Institute on Race, Power and Political Economy
X-ORIGINAL-URL:https://racepowerpolicy.org
X-WR-CALDESC:Events for Institute on Race, Power and Political Economy
REFRESH-INTERVAL;VALUE=DURATION:PT1H
X-Robots-Tag:noindex
X-PUBLISHED-TTL:PT1H
BEGIN:VTIMEZONE
TZID:America/New_York
BEGIN:DAYLIGHT
TZOFFSETFROM:-0500
TZOFFSETTO:-0400
TZNAME:EDT
DTSTART:20220313T070000
END:DAYLIGHT
BEGIN:STANDARD
TZOFFSETFROM:-0400
TZOFFSETTO:-0500
TZNAME:EST
DTSTART:20221106T060000
END:STANDARD
BEGIN:DAYLIGHT
TZOFFSETFROM:-0500
TZOFFSETTO:-0400
TZNAME:EDT
DTSTART:20230312T070000
END:DAYLIGHT
BEGIN:STANDARD
TZOFFSETFROM:-0400
TZOFFSETTO:-0500
TZNAME:EST
DTSTART:20231105T060000
END:STANDARD
BEGIN:DAYLIGHT
TZOFFSETFROM:-0500
TZOFFSETTO:-0400
TZNAME:EDT
DTSTART:20240310T070000
END:DAYLIGHT
BEGIN:STANDARD
TZOFFSETFROM:-0400
TZOFFSETTO:-0500
TZNAME:EST
DTSTART:20241103T060000
END:STANDARD
END:VTIMEZONE
BEGIN:VEVENT
DTSTART;TZID=America/New_York:20230420T133000
DTEND;TZID=America/New_York:20230420T160000
DTSTAMP:20260423T052641
CREATED:20240125T231439Z
LAST-MODIFIED:20240125T231517Z
UID:1053-1681997400-1682006400@racepowerpolicy.org
SUMMARY:Hernán Santa Cruz Dialogue
DESCRIPTION:Presented by The Institute on Race\, Power and Political Economy and the Office of Equity\, Inclusion\, and Social Justice at The New School. \nAs part of the Human Rights 75 Initiative\, the Office of the High Commissioner for Human Rights and the Institute on Race\, Power and Political Economy convened a group of leading global economists at The New School on Thursday\, April 20 from 1:30-3:30pm for a pivotal Hernán Santa Cruz Dialogue and panel discussion on the potential for a global Human Rights Economy. \n\n\n\n\nThe UN Human Rights Office inaugurated the Hernán Santa Cruz Dialogue Series in October 2020\, creating a dynamic platform for exchanging innovative thoughts\, expertise\, and approaches related to economic\, social and cultural rights\, the right to development\, the 2030 Agenda\, and Sustainable Development Goals in light of the current global challenges. \nThe Dialogue Series is named after Hernán Santa Cruz Barceló\, a key figure in the development of the UN human rights framework who played a crucial role in incorporating economic and social rights into the Universal Declaration of Human Rights. \nThis dynamic discussion as a part of the Human Rights 75 Initiative has a two-fold objective of bringing together leading economic experts to build the Human Rights Economy concept and to use the Hernán Santa Cruz Dialogue to raise the visibility of the concept in a way that encourages greater awareness on the need for a Human Rights Economy and to encourage increased academic discourse and policy-maker dialogue on the subject.
URL:https://racepowerpolicy.org/event/hernan-santa-cruz-dialogue/
LOCATION:The Auditorium\, 66 West 12th Street\, NY\, United States
CATEGORIES:In-Person,Panel,Virtual
ATTACH;FMTTYPE=image/jpeg:https://racepowerpolicy.org/wp-content/uploads/2024/01/569d975494944f91d6b96f6657d23d37.TNS_Splash-Event-Page_UN-Event_Apr-20_720x720_Final4_04.11.23.jpg
END:VEVENT
END:VCALENDAR