BEGIN:VCALENDAR
VERSION:2.0
PRODID:-//Institute on Race, Power and Political Economy - ECPv6.15.11//NONSGML v1.0//EN
CALSCALE:GREGORIAN
METHOD:PUBLISH
X-WR-CALNAME:Institute on Race, Power and Political Economy
X-ORIGINAL-URL:https://racepowerpolicy.org
X-WR-CALDESC:Events for Institute on Race, Power and Political Economy
REFRESH-INTERVAL;VALUE=DURATION:PT1H
X-Robots-Tag:noindex
X-PUBLISHED-TTL:PT1H
BEGIN:VTIMEZONE
TZID:America/New_York
BEGIN:DAYLIGHT
TZOFFSETFROM:-0500
TZOFFSETTO:-0400
TZNAME:EDT
DTSTART:20240310T070000
END:DAYLIGHT
BEGIN:STANDARD
TZOFFSETFROM:-0400
TZOFFSETTO:-0500
TZNAME:EST
DTSTART:20241103T060000
END:STANDARD
BEGIN:DAYLIGHT
TZOFFSETFROM:-0500
TZOFFSETTO:-0400
TZNAME:EDT
DTSTART:20250309T070000
END:DAYLIGHT
BEGIN:STANDARD
TZOFFSETFROM:-0400
TZOFFSETTO:-0500
TZNAME:EST
DTSTART:20251102T060000
END:STANDARD
BEGIN:DAYLIGHT
TZOFFSETFROM:-0500
TZOFFSETTO:-0400
TZNAME:EDT
DTSTART:20260308T070000
END:DAYLIGHT
BEGIN:STANDARD
TZOFFSETFROM:-0400
TZOFFSETTO:-0500
TZNAME:EST
DTSTART:20261101T060000
END:STANDARD
END:VTIMEZONE
BEGIN:VEVENT
DTSTART;TZID=America/New_York:20250306T140000
DTEND;TZID=America/New_York:20250306T153000
DTSTAMP:20260421T145237
CREATED:20250224T180318Z
LAST-MODIFIED:20250224T180538Z
UID:3261-1741269600-1741275000@racepowerpolicy.org
SUMMARY:Investing in Equity for All
DESCRIPTION:Join the Institute\, the NYC Commission on Racial Equity (CORE)\, and the Center for Community Uplift at Brookings for a critical conversation on advancing equity in the New York City budgeting process on Thursday\, March 6 at Wollman Hall at The New School from 2:00 – 3:30pm ET. This discussion will explore how New York City can implement equitable allocation of government resources that addresses harm caused by racism and social injustice.\n\n\n\n\nFeatured Speakers:\n\n\nLinda Tigani – Chair and Executive Director\, NYC Commission on Racial Equity (CORE)\nJennifer Jones Austin – Chief Executive Officer & Executive Director\, FPWA\nDarrick Hamilton – Founding Director\, Institute on Race\, Power and Political Economy\nSarah Treuhaft – Senior Director of Policy and Partnerships\, Institute on Race\, Power and Political Economy\nCouncilmember Dr. Nantasha Williams\, District 27\nSideya Sherman – NYC Chief Equity Officer and Commissioner\, Mayor’s Office of Equity and Racial Justice\n\n\n\nRegister Now\n  \n\nPresented by the Institute on Race\, Power and Political Economy\, the NYC Commission on Racial Equity (CORE)\, and the Center for Community Uplift at Brookings.
URL:https://racepowerpolicy.org/event/investing-equity-for-all/
LOCATION:The New School\, 65 West 11th Street\, New York\, 10011\, United States
CATEGORIES:In-Person
ATTACH;FMTTYPE=image/png:https://racepowerpolicy.org/wp-content/uploads/2025/02/Screenshot-2025-02-24-at-10.46.27 AM.png
END:VEVENT
END:VCALENDAR