BEGIN:VCALENDAR
VERSION:2.0
PRODID:-//Institute on Race, Power and Political Economy - ECPv6.15.11//NONSGML v1.0//EN
CALSCALE:GREGORIAN
METHOD:PUBLISH
X-ORIGINAL-URL:https://racepowerpolicy.org
X-WR-CALDESC:Events for Institute on Race, Power and Political Economy
REFRESH-INTERVAL;VALUE=DURATION:PT1H
X-Robots-Tag:noindex
X-PUBLISHED-TTL:PT1H
BEGIN:VTIMEZONE
TZID:America/New_York
BEGIN:DAYLIGHT
TZOFFSETFROM:-0500
TZOFFSETTO:-0400
TZNAME:EDT
DTSTART:20230312T070000
END:DAYLIGHT
BEGIN:STANDARD
TZOFFSETFROM:-0400
TZOFFSETTO:-0500
TZNAME:EST
DTSTART:20231105T060000
END:STANDARD
BEGIN:DAYLIGHT
TZOFFSETFROM:-0500
TZOFFSETTO:-0400
TZNAME:EDT
DTSTART:20240310T070000
END:DAYLIGHT
BEGIN:STANDARD
TZOFFSETFROM:-0400
TZOFFSETTO:-0500
TZNAME:EST
DTSTART:20241103T060000
END:STANDARD
BEGIN:DAYLIGHT
TZOFFSETFROM:-0500
TZOFFSETTO:-0400
TZNAME:EDT
DTSTART:20250309T070000
END:DAYLIGHT
BEGIN:STANDARD
TZOFFSETFROM:-0400
TZOFFSETTO:-0500
TZNAME:EST
DTSTART:20251102T060000
END:STANDARD
END:VTIMEZONE
BEGIN:VEVENT
DTSTART;TZID=America/New_York:20241112T150000
DTEND;TZID=America/New_York:20241112T160000
DTSTAMP:20260421T163107
CREATED:20241030T174334Z
LAST-MODIFIED:20241030T194807Z
UID:2236-1731423600-1731427200@racepowerpolicy.org
SUMMARY:Election 2024 Debrief: What’s Next for Progressive Policy Advocacy?
DESCRIPTION:Please join us virtually on November 12 from 12:00-1:00pm PST / 3:00-4:00pm ET for part one of our two-part series of expert-led debriefs on the significance of the November 2024 election outcomes for progressive community power building in California and beyond \nFeaturing leading progressive activists\, these gatherings are co-hosted by the Institute on Race\, Power and Political Economy and the Excessive Wealth Disorder Institute as part of the California Explorations Project. \nKey questions: \n\nWhat do the 2024 election results mean for progressive organizing and policy advocacy in California\, and the rest of the U.S.\, in the next several years?\nIn what specific ways will the election results likely help or hinder the advancement of a more progressive common policy agenda in California and other states?\nWhat are the most essential things that progressive leaders and networks need to do now to respond most strategically to the next chapters of racial\, gender\, and economic justice advocacy?\n\nSpeakers include: \n\nSabrina Smith\, CEO\, California Calls\nMichael McAfee\, President & CEO\, PolicyLink\nHenry A.J. Ramos\, Senior Fellow\, Institute on Race\, Power and Political Economy\nGabriela Sandoval\, Executive Director\, Excessive Wealth Disorder Institute\n\nRegister Now\n  \n\nPresented by the California Explorations Project (an initiative of the Institute on Race\, Power\, and Political Economy) and the Excessive Wealth Disorder Institute.
URL:https://racepowerpolicy.org/event/election-2024-debrief/
CATEGORIES:Event Series,Virtual
ATTACH;FMTTYPE=image/png:https://racepowerpolicy.org/wp-content/uploads/2024/10/DEBRIEF-2.png
END:VEVENT
END:VCALENDAR