BEGIN:VCALENDAR
VERSION:2.0
PRODID:-//Institute on Race, Power and Political Economy - ECPv6.15.11//NONSGML v1.0//EN
CALSCALE:GREGORIAN
METHOD:PUBLISH
X-WR-CALNAME:Institute on Race, Power and Political Economy
X-ORIGINAL-URL:https://racepowerpolicy.org
X-WR-CALDESC:Events for Institute on Race, Power and Political Economy
REFRESH-INTERVAL;VALUE=DURATION:PT1H
X-Robots-Tag:noindex
X-PUBLISHED-TTL:PT1H
BEGIN:VTIMEZONE
TZID:America/New_York
BEGIN:DAYLIGHT
TZOFFSETFROM:-0500
TZOFFSETTO:-0400
TZNAME:EDT
DTSTART:20230312T070000
END:DAYLIGHT
BEGIN:STANDARD
TZOFFSETFROM:-0400
TZOFFSETTO:-0500
TZNAME:EST
DTSTART:20231105T060000
END:STANDARD
BEGIN:DAYLIGHT
TZOFFSETFROM:-0500
TZOFFSETTO:-0400
TZNAME:EDT
DTSTART:20240310T070000
END:DAYLIGHT
BEGIN:STANDARD
TZOFFSETFROM:-0400
TZOFFSETTO:-0500
TZNAME:EST
DTSTART:20241103T060000
END:STANDARD
BEGIN:DAYLIGHT
TZOFFSETFROM:-0500
TZOFFSETTO:-0400
TZNAME:EDT
DTSTART:20250309T070000
END:DAYLIGHT
BEGIN:STANDARD
TZOFFSETFROM:-0400
TZOFFSETTO:-0500
TZNAME:EST
DTSTART:20251102T060000
END:STANDARD
END:VTIMEZONE
BEGIN:VEVENT
DTSTART;TZID=America/New_York:20240620T150000
DTEND;TZID=America/New_York:20240620T163000
DTSTAMP:20260421T234946
CREATED:20240522T181913Z
LAST-MODIFIED:20240522T182610Z
UID:1482-1718895600-1718901000@racepowerpolicy.org
SUMMARY:Building Inclusive Democracy and Power Through Youth Voting and Nonprofit Activism
DESCRIPTION:Are you a community or nonprofit leader working to create a more inclusive democracy and economy where people of color\, women\, LGBTQ+ community members\, workers\, young people\, and everyone can thrive? \nJoin us for a timely and informative roundtable on multicultural and community youth voting and civic activism. We’ll introduce a new Multicultural Youth GOTV Guide and virtual training to support nonprofit and community leaders and organizers in your efforts to engage young people\, and other important underrepresented communities\, in the 2024 elections and beyond\, with the goal of building a better\, brighter future. \nFeatured speakers include: \n\nHenry A. J. Ramos\, Senior Fellow at the Institute on Race\, Power and Political Economy and Director of the California Explorations Project;\nDr. Robb Smith\, attorney and political activist\, author of the Margin of Error voting analysis blog\, and Senior Consultant to the California Explorations Project;\nQuyen Tu\, attorney and Legal Director for the Bolder Advocacy program at Alliance for Justice and a founding host of the Rules of the Game podcast; and\nSarah Efthymiou\, Senior Counsel for the Bolder Advocacy program at Alliance for Justice\, where she provides technical assistance\, resources\, and training to help nonprofit advocates understand their rights and abilities to advocate\, lobby\, engage in election related activities\, and fund advocacy.\n\nRegister Now\n  \n\nPresented by the California Explorations Project (an initiative of the Institute on Race\, Power\, and Political Economy).
URL:https://racepowerpolicy.org/event/inclusive-democracy-power/
CATEGORIES:Event Series,Virtual
ATTACH;FMTTYPE=image/png:https://racepowerpolicy.org/wp-content/uploads/2024/05/1280x1280-June-20th-Webinar.png
END:VEVENT
END:VCALENDAR