BEGIN:VCALENDAR
VERSION:2.0
PRODID:-//Institute on Race, Power and Political Economy - ECPv6.15.11//NONSGML v1.0//EN
CALSCALE:GREGORIAN
METHOD:PUBLISH
X-WR-CALNAME:Institute on Race, Power and Political Economy
X-ORIGINAL-URL:https://racepowerpolicy.org
X-WR-CALDESC:Events for Institute on Race, Power and Political Economy
REFRESH-INTERVAL;VALUE=DURATION:PT1H
X-Robots-Tag:noindex
X-PUBLISHED-TTL:PT1H
BEGIN:VTIMEZONE
TZID:America/New_York
BEGIN:DAYLIGHT
TZOFFSETFROM:-0500
TZOFFSETTO:-0400
TZNAME:EDT
DTSTART:20250309T070000
END:DAYLIGHT
BEGIN:STANDARD
TZOFFSETFROM:-0400
TZOFFSETTO:-0500
TZNAME:EST
DTSTART:20251102T060000
END:STANDARD
BEGIN:DAYLIGHT
TZOFFSETFROM:-0500
TZOFFSETTO:-0400
TZNAME:EDT
DTSTART:20260308T070000
END:DAYLIGHT
BEGIN:STANDARD
TZOFFSETFROM:-0400
TZOFFSETTO:-0500
TZNAME:EST
DTSTART:20261101T060000
END:STANDARD
BEGIN:DAYLIGHT
TZOFFSETFROM:-0500
TZOFFSETTO:-0400
TZNAME:EDT
DTSTART:20270314T070000
END:DAYLIGHT
BEGIN:STANDARD
TZOFFSETFROM:-0400
TZOFFSETTO:-0500
TZNAME:EST
DTSTART:20271107T060000
END:STANDARD
END:VTIMEZONE
BEGIN:VEVENT
DTSTART;VALUE=DATE:20260331
DTEND;VALUE=DATE:20260506
DTSTAMP:20260420T155025
CREATED:20260317T171622Z
LAST-MODIFIED:20260407T150707Z
UID:4189-1774915200-1778025599@racepowerpolicy.org
SUMMARY:Exploring Baby Bonds
DESCRIPTION:New National Polling on Baby Bonds\nWhat the Data Means for Policy Now \nMarch 31\, 1–2 p.m. EST The Wealth–Health Connection\nEvidence for Baby Bonds as a Public Health Strategy  \nApril 16\, 2–3 p.m. EST A Mother’s Day Special\nThe “Superbundle” Approach to Maternal Health and Wealth  \nMay 5\, 2–3 p.m. EST Register for Session 1Register for Session 2Register for Session 3This session features researchers from Johns Hopkins University – Dr. Catherine Ettman and Dr. Andrew Anderson –  presenting fresh 2025 national polling data on support for Baby Bonds\, highlighting public opinion trends\, messaging insights\, and emerging connections between health and wealth. A bipartisan panel of state leaders including Comptroller of Maryland Brooke Lierman (D)\, Vermont State Representative Ashley Bartley (R)\, and Washington State Treasurer Michael Pellicciotti (D) will discuss policy implications. ln session 2\, leading health scholars\, Dr. Sarah C. DeSilvey\, Dr. Patricia Welch Saleeby\, and Dr. Tiffany Younger will focus on how wealth - not just income - shapes health\, stress\, and long-term wellbeing. This conversation will explore Baby Bonds as an evidence-based strategy addressing social drivers of health and reducing disparities. The final session spotlights Vermont’s maternal health “Superbundle\,” an integrated model combining basic-needs support\, direct cash assistance\, and Baby Bonds to improve maternal and child outcomes while building long-term financial security. Join Vermont State Treasurer Mike Pieciak and national partners like Dr. Megan Smith of the National Diaper Bank Network\, Hilary Hahn of the MOMS Partnership\, Madeline Brown with the Urban Institute\, Suzanna Fritzberg of The Bridge Project\, and moderator Kenn Harris.
URL:https://racepowerpolicy.org/event/exploring-baby-bonds-online-learning-series-26/
LOCATION:Virtual on Zoom
CATEGORIES:Event Series,Virtual
ORGANIZER;CN="The Institute on Race%2C Powr and Political Economy":MAILTO:irpe@newschool.edu
END:VEVENT
END:VCALENDAR