BEGIN:VCALENDAR
VERSION:2.0
PRODID:-//Institute on Race, Power and Political Economy - ECPv6.15.11//NONSGML v1.0//EN
CALSCALE:GREGORIAN
METHOD:PUBLISH
X-ORIGINAL-URL:https://racepowerpolicy.org
X-WR-CALDESC:Events for Institute on Race, Power and Political Economy
REFRESH-INTERVAL;VALUE=DURATION:PT1H
X-Robots-Tag:noindex
X-PUBLISHED-TTL:PT1H
BEGIN:VTIMEZONE
TZID:America/New_York
BEGIN:DAYLIGHT
TZOFFSETFROM:-0500
TZOFFSETTO:-0400
TZNAME:EDT
DTSTART:20240310T070000
END:DAYLIGHT
BEGIN:STANDARD
TZOFFSETFROM:-0400
TZOFFSETTO:-0500
TZNAME:EST
DTSTART:20241103T060000
END:STANDARD
BEGIN:DAYLIGHT
TZOFFSETFROM:-0500
TZOFFSETTO:-0400
TZNAME:EDT
DTSTART:20250309T070000
END:DAYLIGHT
BEGIN:STANDARD
TZOFFSETFROM:-0400
TZOFFSETTO:-0500
TZNAME:EST
DTSTART:20251102T060000
END:STANDARD
BEGIN:DAYLIGHT
TZOFFSETFROM:-0500
TZOFFSETTO:-0400
TZNAME:EDT
DTSTART:20260308T070000
END:DAYLIGHT
BEGIN:STANDARD
TZOFFSETFROM:-0400
TZOFFSETTO:-0500
TZNAME:EST
DTSTART:20261101T060000
END:STANDARD
END:VTIMEZONE
BEGIN:VEVENT
DTSTART;TZID=America/New_York:20250401T190000
DTEND;TZID=America/New_York:20250401T210000
DTSTAMP:20260421T150142
CREATED:20250318T194957Z
LAST-MODIFIED:20250404T215046Z
UID:3390-1743534000-1743541200@racepowerpolicy.org
SUMMARY:2025 Henry Cohen Lecture Series: From Paradigm to Power
DESCRIPTION:  \nJoin us at The New School’s Auditorium on Tuesday\, April 1 for the second event of our spring 2025 Henry Cohen Lecture Series\, From Paradigm to Power: Building a Just Political Economy for Health. Presented by the Institute’s Health and Political Economy Project (HPEP)\, this conversation will feature a public lecture from Acting Health Commissioner and Chief Medical Officer of the NYC Department of Health and Mental Hygiene Dr. Michelle Morse\, who will then join a panel with Darrick Hamilton\, Jamila Michener\, and Brian Smedley\, moderated by Dr. Dave Chokshi. This discussion will explore the kinds of health investments and policies\, power-building strategies\, and narratives we need to see real change. \nSpeakers: \n\nDr. Michelle Morse\, Acting Commissioner\, NYC Department of Health and Mental Hygiene\nJamila Michener\, Associate Professor of Government and Public Policy\, Cornell University\nBrian Smedley\, Senior Fellow\, Urban Institute\nDarrick Hamilton\, Founding Director\, Institute on Race\, Power and Political Economy\nDr. Dave Chokshi\, Co-Chair\, Health and Political Economy Project\, Institute on Race\, Power and Political Economy (host)\n\n  \nThis event is part of the 2025 Henry Cohen Lecture Series\, which will bring leading thinkers\, changemakers\, policymakers\, journalists\, and activists to The New School to present their perspectives and explore the intersections of race\, social stratification\, and political economy that inspire economic and racial justice.  \nRegister Now\n  \n\nPresented in partnership with the Institute on Race\, Power and Political Economy and the Milano School of Policy\, Management\, and Environment at The New School.
URL:https://racepowerpolicy.org/event/2025-henry-cohen-lecture-series-paradigm-power/
LOCATION:The Auditorium\, 66 West 12th Street\, NY\, United States
CATEGORIES:Event Series,In-Person,Lecture,Panel
ATTACH;FMTTYPE=image/png:https://racepowerpolicy.org/wp-content/uploads/2025/03/HCLS_4-1-25_square-small.png
END:VEVENT
END:VCALENDAR