BEGIN:VCALENDAR
VERSION:2.0
PRODID:-//Institute on Race, Power and Political Economy - ECPv6.15.11//NONSGML v1.0//EN
CALSCALE:GREGORIAN
METHOD:PUBLISH
X-WR-CALNAME:Institute on Race, Power and Political Economy
X-ORIGINAL-URL:https://racepowerpolicy.org
X-WR-CALDESC:Events for Institute on Race, Power and Political Economy
REFRESH-INTERVAL;VALUE=DURATION:PT1H
X-Robots-Tag:noindex
X-PUBLISHED-TTL:PT1H
BEGIN:VTIMEZONE
TZID:America/New_York
BEGIN:DAYLIGHT
TZOFFSETFROM:-0500
TZOFFSETTO:-0400
TZNAME:EDT
DTSTART:20230312T070000
END:DAYLIGHT
BEGIN:STANDARD
TZOFFSETFROM:-0400
TZOFFSETTO:-0500
TZNAME:EST
DTSTART:20231105T060000
END:STANDARD
BEGIN:DAYLIGHT
TZOFFSETFROM:-0500
TZOFFSETTO:-0400
TZNAME:EDT
DTSTART:20240310T070000
END:DAYLIGHT
BEGIN:STANDARD
TZOFFSETFROM:-0400
TZOFFSETTO:-0500
TZNAME:EST
DTSTART:20241103T060000
END:STANDARD
BEGIN:DAYLIGHT
TZOFFSETFROM:-0500
TZOFFSETTO:-0400
TZNAME:EDT
DTSTART:20250309T070000
END:DAYLIGHT
BEGIN:STANDARD
TZOFFSETFROM:-0400
TZOFFSETTO:-0500
TZNAME:EST
DTSTART:20251102T060000
END:STANDARD
END:VTIMEZONE
BEGIN:VEVENT
DTSTART;TZID=America/New_York:20240430T190000
DTEND;TZID=America/New_York:20240430T210000
DTSTAMP:20260422T132027
CREATED:20240412T191019Z
LAST-MODIFIED:20240412T191819Z
UID:1385-1714503600-1714510800@racepowerpolicy.org
SUMMARY:2024 Henry Cohen Lecture Series: The Guarantees — Building an Inclusive Economy
DESCRIPTION:Join us on Tuesday\, April 30 at The New School to discuss strategies on how to create economic systems that are fair\, just\, and affirmatively inclusive—with a focus on investing in people. Featured speakers will consider the creation of a new American Guarantee that offers winning strategies and a concrete set of  policies that are possible—and ready to implement—in 21st-century America. This event also includes a book signing with Natalie Foster and her newly released book\, The Guarantee: Inside the Fight for America’s Next Economy. \nSpeakers include: \n\nNatalie Foster\, President and Co-Founder of the Economic Security Project\, author of The Guarantee: Inside the Fight for America’s Next Economy\nDeepak Bhargava\, President of The JPB Foundation\, co-author of Practical Radicals: Seven Strategies to Change the World\nChris Hughes\, Co-Founder of the Economic Security Project\, Institute Senior Fellow\nDarrick Hamilton\, Institute Founding Director\n\nRegister Now\n  \n\nPresented by the Institute on Race\, Power and Political Economy in partnership with the Milano School of Policy\, Management\, and Environment\, the 2024 Henry Cohen Lecture Series\, “Visions of a Post-Neoliberal Future\,” brings leading thinkers\, changemakers\, policymakers\, journalists\, and activists to The New School to share their perspectives on building an inclusive political economy.
URL:https://racepowerpolicy.org/event/the-guarantees-building-inclusive-economy/
LOCATION:The Auditorium\, 66 West 12th Street\, NY\, United States
CATEGORIES:Event Series,In-Person,Lecture,Panel
ATTACH;FMTTYPE=image/jpeg:https://racepowerpolicy.org/wp-content/uploads/2024/04/April30_HCLS-scaled.jpeg
END:VEVENT
END:VCALENDAR