BEGIN:VCALENDAR
VERSION:2.0
PRODID:-//Institute on Race, Power and Political Economy - ECPv6.15.11//NONSGML v1.0//EN
CALSCALE:GREGORIAN
METHOD:PUBLISH
X-WR-CALNAME:Institute on Race, Power and Political Economy
X-ORIGINAL-URL:https://racepowerpolicy.org
X-WR-CALDESC:Events for Institute on Race, Power and Political Economy
REFRESH-INTERVAL;VALUE=DURATION:PT1H
X-Robots-Tag:noindex
X-PUBLISHED-TTL:PT1H
BEGIN:VTIMEZONE
TZID:America/New_York
BEGIN:DAYLIGHT
TZOFFSETFROM:-0500
TZOFFSETTO:-0400
TZNAME:EDT
DTSTART:20230312T070000
END:DAYLIGHT
BEGIN:STANDARD
TZOFFSETFROM:-0400
TZOFFSETTO:-0500
TZNAME:EST
DTSTART:20231105T060000
END:STANDARD
BEGIN:DAYLIGHT
TZOFFSETFROM:-0500
TZOFFSETTO:-0400
TZNAME:EDT
DTSTART:20240310T070000
END:DAYLIGHT
BEGIN:STANDARD
TZOFFSETFROM:-0400
TZOFFSETTO:-0500
TZNAME:EST
DTSTART:20241103T060000
END:STANDARD
BEGIN:DAYLIGHT
TZOFFSETFROM:-0500
TZOFFSETTO:-0400
TZNAME:EDT
DTSTART:20250309T070000
END:DAYLIGHT
BEGIN:STANDARD
TZOFFSETFROM:-0400
TZOFFSETTO:-0500
TZNAME:EST
DTSTART:20251102T060000
END:STANDARD
END:VTIMEZONE
BEGIN:VEVENT
DTSTART;TZID=America/New_York:20240402T190000
DTEND;TZID=America/New_York:20240402T210000
DTSTAMP:20260422T104700
CREATED:20240312T215215Z
LAST-MODIFIED:20240320T212328Z
UID:1283-1712084400-1712091600@racepowerpolicy.org
SUMMARY:2024 Henry Cohen Lecture Series: A New Agenda for Health and Wellbeing
DESCRIPTION:The U.S. is amid a decades-long population health crisis. The world is emerging from a devastating pandemic with tragic and unequal loss of life. These population and public health outcomes are associated with a prevailing neoliberal political economy that have left too many people vulnerable to preventable sickness and premature death. \nThis conversation will ask: how do we build a world where our economy inclusively enables all people\, regardless of their identity\, to have the resources to experience health\, wellbeing\, and dignity? What are the policies and narratives about our economy that need to change for this to happen? And how might a fresh political economy lens allow us to imagine and build new possibilities? \nIn this spirit\, this event will mark the announcement of the new Health and Political Economy Project\, which is aiming to craft a forward-looking community and roadmap for change on health. \nSpeakers include: \n\n Harvard University Director of the FXB Center for Health and Human Rights Dr. Mary Bassett; \nYale University Law Professor Amy Kapczynski;\nPresident of the New York State Nurses Association Nancy Hagans;\nPresident Emeritus and Senior Fellow at the Institute for Health Improvement Dr. Donald Berwick; \nFamily physician\, sociologist\, and postdoctoral fellow with the National Clinician Scholars Program at Yale School of Medicine Dr. Victor Roy; \nPracticing physician and Institute Senior Fellow Dr. Dave A. Chokshi; and \nInstitute Founding Director Darrick Hamilton.\n\nRegister Now\n  \n\nPresented by the Institute on Race\, Power and Political Economy in partnership with the Milano School of Policy\, Management\, and Environment\, the 2024 Henry Cohen Lecture Series\, “Visions of a Post-Neoliberal Future\,” brings leading thinkers\, changemakers\, policymakers\, journalists\, and activists to The New School to share their perspectives on building an inclusive political economy.
URL:https://racepowerpolicy.org/event/2024-henry-cohen-lecture-series-a-new-agenda-for-health-and-wellbeing/
LOCATION:The Auditorium\, 66 West 12th Street\, NY\, United States
CATEGORIES:Event Series,In-Person,Lecture,Panel
ATTACH;FMTTYPE=image/jpeg:https://racepowerpolicy.org/wp-content/uploads/2024/03/TNS_Splash-Page_Apr-2_300ppi_Draft5_03.13.24-scaled.jpeg
END:VEVENT
END:VCALENDAR