BEGIN:VCALENDAR
VERSION:2.0
PRODID:-//Institute on Race, Power and Political Economy - ECPv6.15.11//NONSGML v1.0//EN
CALSCALE:GREGORIAN
METHOD:PUBLISH
X-ORIGINAL-URL:https://racepowerpolicy.org
X-WR-CALDESC:Events for Institute on Race, Power and Political Economy
REFRESH-INTERVAL;VALUE=DURATION:PT1H
X-Robots-Tag:noindex
X-PUBLISHED-TTL:PT1H
BEGIN:VTIMEZONE
TZID:America/New_York
BEGIN:DAYLIGHT
TZOFFSETFROM:-0500
TZOFFSETTO:-0400
TZNAME:EDT
DTSTART:20220313T070000
END:DAYLIGHT
BEGIN:STANDARD
TZOFFSETFROM:-0400
TZOFFSETTO:-0500
TZNAME:EST
DTSTART:20221106T060000
END:STANDARD
BEGIN:DAYLIGHT
TZOFFSETFROM:-0500
TZOFFSETTO:-0400
TZNAME:EDT
DTSTART:20230312T070000
END:DAYLIGHT
BEGIN:STANDARD
TZOFFSETFROM:-0400
TZOFFSETTO:-0500
TZNAME:EST
DTSTART:20231105T060000
END:STANDARD
BEGIN:DAYLIGHT
TZOFFSETFROM:-0500
TZOFFSETTO:-0400
TZNAME:EDT
DTSTART:20240310T070000
END:DAYLIGHT
BEGIN:STANDARD
TZOFFSETFROM:-0400
TZOFFSETTO:-0500
TZNAME:EST
DTSTART:20241103T060000
END:STANDARD
END:VTIMEZONE
BEGIN:VEVENT
DTSTART;VALUE=DATE:20230328
DTEND;VALUE=DATE:20230510
DTSTAMP:20260423T033222
CREATED:20240125T200501Z
LAST-MODIFIED:20240125T230437Z
UID:1046-1679961600-1683676799@racepowerpolicy.org
SUMMARY:2023 Henry Cohen Lecture Series: Visions of a Post-Neoliberal Future
DESCRIPTION:Presented by The Institute on Race\, Power and Political Economy and the Office of Equity\, Inclusion\, and Social Justice at The New School. \nAt a pivotal moment of paradigm shift\, many are asking\, what will come next? According to many scholars and activists\, the existing market-centric economic paradigm has failed: it has failed to deliver broad-based prosperity or financial stability\, particularly for Black\, Indigenous and other people of color. How do we forge a new economy that fosters broad prosperity with economic inclusion\, civic engagement\, social equity and human dignity at its center\, regardless of identity? \n\n\n\n\n\n\n\n\n\n\nIn partnership with the Office of Equity\, Inclusion\, and Social Justice and sponsored by the Institute on Race\, Power and Political Economy\, “Visions of a Post-Neoliberal Future” will bring leading thinkers\, changemakers\, policymakers\, journalists\, and activists to the New School to present their perspectives on building an inclusive political economy as part of the Milano School’s Henry Cohen Public lecture series. \n\nExplore the 2023 lecture events.
URL:https://racepowerpolicy.org/event/2023-henry-cohen-lecture-series-visions-of-a-post-neoliberal-future/
LOCATION:The Auditorium\, 66 West 12th Street\, NY\, United States
CATEGORIES:Event Series,In-Person,Lecture
ATTACH;FMTTYPE=image/png:https://racepowerpolicy.org/wp-content/uploads/2024/01/Screenshot-2024-01-25-at-1.07.38 PM.png
END:VEVENT
END:VCALENDAR