BEGIN:VCALENDAR
VERSION:2.0
PRODID:-//Institute on Race, Power and Political Economy - ECPv6.15.11//NONSGML v1.0//EN
CALSCALE:GREGORIAN
METHOD:PUBLISH
X-WR-CALNAME:Institute on Race, Power and Political Economy
X-ORIGINAL-URL:https://racepowerpolicy.org
X-WR-CALDESC:Events for Institute on Race, Power and Political Economy
REFRESH-INTERVAL;VALUE=DURATION:PT1H
X-Robots-Tag:noindex
X-PUBLISHED-TTL:PT1H
BEGIN:VTIMEZONE
TZID:America/New_York
BEGIN:DAYLIGHT
TZOFFSETFROM:-0500
TZOFFSETTO:-0400
TZNAME:EDT
DTSTART:20240310T070000
END:DAYLIGHT
BEGIN:STANDARD
TZOFFSETFROM:-0400
TZOFFSETTO:-0500
TZNAME:EST
DTSTART:20241103T060000
END:STANDARD
BEGIN:DAYLIGHT
TZOFFSETFROM:-0500
TZOFFSETTO:-0400
TZNAME:EDT
DTSTART:20250309T070000
END:DAYLIGHT
BEGIN:STANDARD
TZOFFSETFROM:-0400
TZOFFSETTO:-0500
TZNAME:EST
DTSTART:20251102T060000
END:STANDARD
BEGIN:DAYLIGHT
TZOFFSETFROM:-0500
TZOFFSETTO:-0400
TZNAME:EDT
DTSTART:20260308T070000
END:DAYLIGHT
BEGIN:STANDARD
TZOFFSETFROM:-0400
TZOFFSETTO:-0500
TZNAME:EST
DTSTART:20261101T060000
END:STANDARD
END:VTIMEZONE
BEGIN:VEVENT
DTSTART;TZID=America/New_York:20250506T190000
DTEND;TZID=America/New_York:20250506T210000
DTSTAMP:20260421T114935
CREATED:20250430T164318Z
LAST-MODIFIED:20250508T204801Z
UID:3573-1746558000-1746565200@racepowerpolicy.org
SUMMARY:2025 Henry Cohen Lecture Series: The Imperative of a Strong Labor Movement
DESCRIPTION:  \nJoin us at The New School’s Auditorium on Tuesday\, May 6 for the closing lecture of our 2025 Henry Cohen Lecture Series. \nThis public panel discussion will feature a conversation on the critical role of the labor movement in rebalancing power and achieving economic justice. The current political climate highlights the iterative and inseparable relationship between politics\, economics\, and identity—revealing threats to\, and opportunities for\, increased solidarity within and among justice movements.\nSpeakers: \n\nDorian Warren\, Co-President\, Community Change; Co-Founder\, Economic Security Project\nSara Nelson\, President\, Association of Flight Attendants-CWA\, AFL-CIO\nApril Verrett\, President\, SEIU\nAlicia Garza\, Author\, The Purpose of Power\nFred Redmond\, Secretary-Treasurer\, AFL-CIO\nDarrick Hamilton\, Founding Director\, Institute on Race\, Power and Political Economy; Chief Economist\, AFL-CIO\n\nThis event is part of the 2025 Henry Cohen Lecture Series\, which brings leading thinkers\, changemakers\, policymakers\, journalists\, and activists to The New School to present their perspectives and explore the intersections of race\, social stratification\, and political economy that inspire economic and racial justice.  \nRegister Now\n  \n\nPresented in partnership with the Institute on Race\, Power and Political Economy and the Milano School of Policy\, Management\, and Environment at The New School. \n\nEVENT RECAP \nThe Imperative of a Strong Labor Movement: Rebalancing Power and Advancing Economic Justice\nBy Madeline Neighly\, Senior Strategist and Researcher \nThe final Henry Cohen Lecture of the semester brought together organizers\, advocates\, and economists in conversation about the future of the American labor movement and the stakes not only for economic justice but for democracy. \nDorian Warren opened the evening with a reflection on the echoes of history in today’s present\, reminding us that collective remembrance itself is an act of resistance. He cautioned us there is no democracy without worker power\, and no worker power without true solidarity. Quoting W.E.B. DuBois\, Warren reminded us that labor split its own power when white workers chose racial exclusion over solidarity and urged a true solidarity as the necessary response to the moment. \nModerator Alicia Garza guided panelists April Verrett\, Sara Nelson\, and Darrick Hamilton through a sharp and urgent dialogue on identity\, labor\, and economic truth-telling. Verrett drew a straight line from 1619 to today with greed and white supremacy as cornerstones of economic exploitation. Nelson pushed us all to remember that reproductive justice inseparable from economic justice and noting that today’s labor wins come from an understanding of how gender\, race\, and class shape workplace power. Hamilton connected all of this in a diagnosis of an economy that has “naturalized poverty\,” weaponizing relative status to sow division and perpetuate inequality. \nThe evening closed with a call to build not only worker power\, but a new common sense. “Labor\,” as Fred Redmond noted\, “is not an institution outside of us–it is ours for the shaping.”
URL:https://racepowerpolicy.org/event/2025-henry-cohen-lecture-series-imperative-strong-labor-movement/
LOCATION:The Auditorium\, 66 West 12th Street\, NY\, United States
CATEGORIES:Event Series,In-Person,Lecture,Panel
ATTACH;FMTTYPE=image/png:https://racepowerpolicy.org/wp-content/uploads/2025/04/HCLS_5-6-25_square.png
END:VEVENT
END:VCALENDAR