BEGIN:VCALENDAR
VERSION:2.0
PRODID:-//Institute on Race, Power and Political Economy - ECPv6.15.11//NONSGML v1.0//EN
CALSCALE:GREGORIAN
METHOD:PUBLISH
X-WR-CALNAME:Institute on Race, Power and Political Economy
X-ORIGINAL-URL:https://racepowerpolicy.org
X-WR-CALDESC:Events for Institute on Race, Power and Political Economy
REFRESH-INTERVAL;VALUE=DURATION:PT1H
X-Robots-Tag:noindex
X-PUBLISHED-TTL:PT1H
BEGIN:VTIMEZONE
TZID:America/New_York
BEGIN:DAYLIGHT
TZOFFSETFROM:-0500
TZOFFSETTO:-0400
TZNAME:EDT
DTSTART:20250309T070000
END:DAYLIGHT
BEGIN:STANDARD
TZOFFSETFROM:-0400
TZOFFSETTO:-0500
TZNAME:EST
DTSTART:20251102T060000
END:STANDARD
BEGIN:DAYLIGHT
TZOFFSETFROM:-0500
TZOFFSETTO:-0400
TZNAME:EDT
DTSTART:20260308T070000
END:DAYLIGHT
BEGIN:STANDARD
TZOFFSETFROM:-0400
TZOFFSETTO:-0500
TZNAME:EST
DTSTART:20261101T060000
END:STANDARD
BEGIN:DAYLIGHT
TZOFFSETFROM:-0500
TZOFFSETTO:-0400
TZNAME:EDT
DTSTART:20270314T070000
END:DAYLIGHT
BEGIN:STANDARD
TZOFFSETFROM:-0400
TZOFFSETTO:-0500
TZNAME:EST
DTSTART:20271107T060000
END:STANDARD
END:VTIMEZONE
BEGIN:VEVENT
DTSTART;TZID=America/New_York:20260423T180000
DTEND;TZID=America/New_York:20260423T193000
DTSTAMP:20260420T170002
CREATED:20260414T171310Z
LAST-MODIFIED:20260414T171310Z
UID:4243-1776967200-1776972600@racepowerpolicy.org
SUMMARY:Where Do We Go From Here: From Civil Rights to Economic Rights
DESCRIPTION:A robust and historical grounding for inclusive economic rights that connects labor\, community\, and economic and racial justice movements and points us toward a progressive economic agenda in the present. \nRegister HERE \nFeaturing:\nHonorable Nina Turner\nDemos President\,Taifa Smith Butler\nAFL-CIO Secretary-Treasurer\, Fred Redmond\nThe Roosevelt Institute President & CEO\, Elizabeth Wilkins\nInstitute Founding Director\, Prof. Darrick Hamilton\nand moderated by\nRockefeller Brothers Fund Democratic Practice Director\, Keesha Gaskins-Nathan
URL:https://racepowerpolicy.org/event/from-civil-rights-to-economic-rights/
LOCATION:The Auditorium\, 66 West 12th Street\, NY\, United States
CATEGORIES:In-Person,Lecture,Panel
END:VEVENT
END:VCALENDAR